BEGIN:VCALENDAR
VERSION:2.0
PRODID:-//Sydney Community Foundation - ECPv5.0.2.1//NONSGML v1.0//EN
CALSCALE:GREGORIAN
METHOD:PUBLISH
X-WR-CALNAME:Sydney Community Foundation
X-ORIGINAL-URL:https://www.sydneycommunityfoundation.org.au
X-WR-CALDESC:Events for Sydney Community Foundation
BEGIN:VTIMEZONE
TZID:Europe/Amsterdam
BEGIN:DAYLIGHT
TZOFFSETFROM:+0100
TZOFFSETTO:+0200
TZNAME:CEST
DTSTART:20180325T010000
END:DAYLIGHT
BEGIN:STANDARD
TZOFFSETFROM:+0200
TZOFFSETTO:+0100
TZNAME:CET
DTSTART:20181028T010000
END:STANDARD
END:VTIMEZONE
BEGIN:VEVENT
DTSTART;TZID=Europe/Amsterdam:20180930T080000
DTEND;TZID=Europe/Amsterdam:20180930T170000
DTSTAMP:20210228T135106
CREATED:20180930T150243Z
LAST-MODIFIED:20181001T131945Z
UID:1242-1538294400-1538326800@www.sydneycommunityfoundation.org.au
SUMMARY:Sydney Women's Fund: Films for Change screening 'Big Bad Love' Documentary
DESCRIPTION:\n\nWhat do you do if your friend is being abused? \nJoin us and support Sydney Women’s Fund for the first screening in our 2017 Films for Change Series and view Australian Documentary Film​: \n‘Big Bad Love’\n6pm: Thursday 1st June 2017\nEternity Theatre\, Darlinghurst\nAbout the Film \nComedian Becky Lucas found out one of her closest childhood friends had suffered years of violence and abuse at the hands of her partner. \nWith young women 18-24 being most at risk of abuse Becky sets out to understand what an abusive relationship looks like\, how it begins and why it’s so hard to intervene. She meets experts and psychologists to figure out why she missed the signs\, conducts a social experiment on the street to see how the average bystander reacts to domestic violence\, and seeks out the stories of young survivors of domestic violence to discover what anyone can do when confronted with domestic violence.  \nWatch trailer (link is external) \n \nSydney Women’s Fund’s – 2017 Films for Change Series  \n\nJune 1 – BIG BAD LOVE – Watch trailer (link is external)\nOct 17 – Please Save the Date (Film details to follow)\n\nThe Films for Change Series is an exciting way to support Sydney Women’s Fund\, meet like-minded donors and learn about philanthropy. Join us and participate in a discussion with an expert panel following each life changing film. \nThe upcoming screening of Big Bad Love commissioned by the ABC will be followed by a conversation with the Film’s Director and industry experts. \nBriony Benjamin: Big Bad Love Director\nMoo Baulch: CEO DV NSW \nKatie Acheson: CEO Youth Action\nKristian Reyes: Acting Manager Youth Health Services\, Youthblock\nCase Worker: The Waranara Centre\, Good Shepherd \nThe event will close with networking drinks with a brilliant crowd in the beautiful foyer at The Eternity Theatre in Darlinghurst. (link is external) \n \n(Adults $45\, Students $20 + Booking fee) \nAll funds raised will go towards initiatives that fuel Sydney Women’s Fund’s ability to achieve its mission ‘to provide every Sydney woman and girl the opportunity to thrive’. \n\n\n\nSydney Women’s Fund Advisory Council \nWENDY McCARTHY (PATRON)\nLUCINDA BROGDEN (PATRON)\nHELEN WISEMAN (CHAIR)\nCLARE AINSWORTH – HERSCHELL\nGEORGINA BYRON\nBENEDICTE COLIN\nMARTA DUSSELDORP\nJANE JOSE\nNIKI KESOGLOU\nALICE LEMESSURIER\nBOBBI MAHLAB\nJUSTINE WATERS\nDEANNE WEIR \n\n\n\nWe hope that you will join us and share this invitation with your friends to see these impactful films. \n \n\nSydney Women’s Fund Sponsor \n \n\nThe SWF 2017 Films for Change Series is supported by \nDarlinghurst Theatre Company                    Good Pitch Australia \n                  \n\nIf you can’t attend this screening Sydney Women’s Fund welcomes you to support our work with a tax deductible donation \n \n  \n\n\n
URL:https://www.sydneycommunityfoundation.org.au/event/sydney-womens-fund-films-for-change-screening-big-bad-love-documentary/
CATEGORIES:SCF
ATTACH;FMTTYPE=image/jpeg:https://www.sydneycommunityfoundation.org.au/wp-content/uploads/2018/09/WEB-HEADER-Big-Bad-Love-Event-745-x-440.jpg
END:VEVENT
END:VCALENDAR